BEGIN:VCALENDAR
VERSION:2.0
PRODID:-//Christ Church Parish - Plymouth - ECPv6.15.20//NONSGML v1.0//EN
CALSCALE:GREGORIAN
METHOD:PUBLISH
X-ORIGINAL-URL:https://christchurchplymouth.org
X-WR-CALDESC:Events for Christ Church Parish - Plymouth
REFRESH-INTERVAL;VALUE=DURATION:PT1H
X-Robots-Tag:noindex
X-PUBLISHED-TTL:PT1H
BEGIN:VTIMEZONE
TZID:America/New_York
BEGIN:DAYLIGHT
TZOFFSETFROM:-0500
TZOFFSETTO:-0400
TZNAME:EDT
DTSTART:20240310T070000
END:DAYLIGHT
BEGIN:STANDARD
TZOFFSETFROM:-0400
TZOFFSETTO:-0500
TZNAME:EST
DTSTART:20241103T060000
END:STANDARD
BEGIN:DAYLIGHT
TZOFFSETFROM:-0500
TZOFFSETTO:-0400
TZNAME:EDT
DTSTART:20250309T070000
END:DAYLIGHT
BEGIN:STANDARD
TZOFFSETFROM:-0400
TZOFFSETTO:-0500
TZNAME:EST
DTSTART:20251102T060000
END:STANDARD
BEGIN:DAYLIGHT
TZOFFSETFROM:-0500
TZOFFSETTO:-0400
TZNAME:EDT
DTSTART:20260308T070000
END:DAYLIGHT
BEGIN:STANDARD
TZOFFSETFROM:-0400
TZOFFSETTO:-0500
TZNAME:EST
DTSTART:20261101T060000
END:STANDARD
END:VTIMEZONE
BEGIN:VEVENT
DTSTART;TZID=America/New_York:20251120T120000
DTEND;TZID=America/New_York:20251120T130000
DTSTAMP:20260422T092911
CREATED:20230602T205606Z
LAST-MODIFIED:20251120T144834Z
UID:10005139-1763640000-1763643600@christchurchplymouth.org
SUMMARY:Food Pantry Open
DESCRIPTION:
URL:https://christchurchplymouth.org/event/food-pantry-3/2025-11-20/
CATEGORIES:Ministries
END:VEVENT
BEGIN:VEVENT
DTSTART;TZID=America/New_York:20251121T100000
DTEND;TZID=America/New_York:20251121T160000
DTSTAMP:20260422T092911
CREATED:20250103T185320Z
LAST-MODIFIED:20251120T145011Z
UID:10005626-1763719200-1763740800@christchurchplymouth.org
SUMMARY:Thrift Shoppe Open
DESCRIPTION:
URL:https://christchurchplymouth.org/event/thrift-shoppe-open-2/2025-11-21/
LOCATION:Christ Church Thrift Shoppe\, 6 Lothrop St\, Plymouth\, MA\, 02630\, United States
CATEGORIES:Ministries
END:VEVENT
BEGIN:VEVENT
DTSTART;TZID=America/New_York:20251121T103000
DTEND;TZID=America/New_York:20251121T113000
DTSTAMP:20260422T092911
CREATED:20220308T015500Z
LAST-MODIFIED:20250103T184301Z
UID:10004978-1763721000-1763724600@christchurchplymouth.org
SUMMARY:Fore & Aft
DESCRIPTION:
URL:https://christchurchplymouth.org/event/fore-aft/2025-11-21/
CATEGORIES:Fore & Aft
END:VEVENT
BEGIN:VEVENT
DTSTART;TZID=America/New_York:20251122T100000
DTEND;TZID=America/New_York:20251122T113000
DTSTAMP:20260422T092911
CREATED:20230602T205606Z
LAST-MODIFIED:20250103T184359Z
UID:10005070-1763805600-1763811000@christchurchplymouth.org
SUMMARY:Food Pantry Open
DESCRIPTION:
URL:https://christchurchplymouth.org/event/food-pantry-2/2025-11-22/
CATEGORIES:Ministries
END:VEVENT
BEGIN:VEVENT
DTSTART;TZID=America/New_York:20251122T170000
DTEND;TZID=America/New_York:20251122T180000
DTSTAMP:20260422T092911
CREATED:20230621T173121Z
LAST-MODIFIED:20260312T151637Z
UID:10004632-1763830800-1763834400@christchurchplymouth.org
SUMMARY:Evening Worship Service 5 PM
DESCRIPTION:
URL:https://christchurchplymouth.org/event/evening-worship-service-5pm/2025-11-22/
LOCATION:Main Sanctuary
CATEGORIES:Services
END:VEVENT
BEGIN:VEVENT
DTSTART;TZID=America/New_York:20251123T080000
DTEND;TZID=America/New_York:20251123T093000
DTSTAMP:20260422T092911
CREATED:20250819T172033Z
LAST-MODIFIED:20250819T172033Z
UID:10005960-1763884800-1763890200@christchurchplymouth.org
SUMMARY:Morning Worship Service 8 AM
DESCRIPTION:
URL:https://christchurchplymouth.org/event/morning-worship-service-8-am-3/2025-11-23/
LOCATION:Mary Chapel
CATEGORIES:Services
END:VEVENT
BEGIN:VEVENT
DTSTART;TZID=America/New_York:20251123T100000
DTEND;TZID=America/New_York:20251123T113000
DTSTAMP:20260422T092911
CREATED:20250819T171914Z
LAST-MODIFIED:20260107T144208Z
UID:10005921-1763892000-1763897400@christchurchplymouth.org
SUMMARY:Morning Worship Service 10 AM
DESCRIPTION:
URL:https://christchurchplymouth.org/event/morning-worship-service-10-am-3/2025-11-23/
LOCATION:Main Sanctuary
CATEGORIES:Services
END:VEVENT
BEGIN:VEVENT
DTSTART;TZID=America/New_York:20251123T183000
DTEND;TZID=America/New_York:20251123T193000
DTSTAMP:20260422T092911
CREATED:20250103T190035Z
LAST-MODIFIED:20250103T190035Z
UID:10005734-1763922600-1763926200@christchurchplymouth.org
SUMMARY:AA Group
DESCRIPTION:
URL:https://christchurchplymouth.org/event/aa-group-2/2025-11-23/
LOCATION:Parish Hall\, 149 Court St\, Plymouth\, MA\, 02630\, United States
CATEGORIES:Meetings
END:VEVENT
BEGIN:VEVENT
DTSTART;TZID=America/New_York:20251124T103000
DTEND;TZID=America/New_York:20251124T113000
DTSTAMP:20260422T092911
CREATED:20220308T015500Z
LAST-MODIFIED:20250103T184301Z
UID:10004979-1763980200-1763983800@christchurchplymouth.org
SUMMARY:Fore & Aft
DESCRIPTION:
URL:https://christchurchplymouth.org/event/fore-aft/2025-11-24/
CATEGORIES:Fore & Aft
END:VEVENT
BEGIN:VEVENT
DTSTART;TZID=America/New_York:20251125T103000
DTEND;TZID=America/New_York:20251125T113000
DTSTAMP:20260422T092911
CREATED:20220308T015500Z
LAST-MODIFIED:20250103T184301Z
UID:10004980-1764066600-1764070200@christchurchplymouth.org
SUMMARY:Fore & Aft
DESCRIPTION:
URL:https://christchurchplymouth.org/event/fore-aft/2025-11-25/
CATEGORIES:Fore & Aft
END:VEVENT
BEGIN:VEVENT
DTSTART;TZID=America/New_York:20251126T103000
DTEND;TZID=America/New_York:20251126T113000
DTSTAMP:20260422T092911
CREATED:20220308T015500Z
LAST-MODIFIED:20250103T184301Z
UID:10004981-1764153000-1764156600@christchurchplymouth.org
SUMMARY:Fore & Aft
DESCRIPTION:
URL:https://christchurchplymouth.org/event/fore-aft/2025-11-26/
CATEGORIES:Fore & Aft
END:VEVENT
BEGIN:VEVENT
DTSTART;TZID=America/New_York:20251127T103000
DTEND;TZID=America/New_York:20251127T113000
DTSTAMP:20260422T092911
CREATED:20220308T015500Z
LAST-MODIFIED:20250103T184301Z
UID:10004982-1764239400-1764243000@christchurchplymouth.org
SUMMARY:Fore & Aft
DESCRIPTION:
URL:https://christchurchplymouth.org/event/fore-aft/2025-11-27/
CATEGORIES:Fore & Aft
END:VEVENT
BEGIN:VEVENT
DTSTART;TZID=America/New_York:20251128T103000
DTEND;TZID=America/New_York:20251128T113000
DTSTAMP:20260422T092911
CREATED:20220308T015500Z
LAST-MODIFIED:20250103T184301Z
UID:10004983-1764325800-1764329400@christchurchplymouth.org
SUMMARY:Fore & Aft
DESCRIPTION:
URL:https://christchurchplymouth.org/event/fore-aft/2025-11-28/
CATEGORIES:Fore & Aft
END:VEVENT
BEGIN:VEVENT
DTSTART;TZID=America/New_York:20251129T100000
DTEND;TZID=America/New_York:20251129T113000
DTSTAMP:20260422T092911
CREATED:20230602T205606Z
LAST-MODIFIED:20250103T184359Z
UID:10005071-1764410400-1764415800@christchurchplymouth.org
SUMMARY:Food Pantry Open
DESCRIPTION:
URL:https://christchurchplymouth.org/event/food-pantry-2/2025-11-29/
CATEGORIES:Ministries
END:VEVENT
BEGIN:VEVENT
DTSTART;TZID=America/New_York:20251129T100000
DTEND;TZID=America/New_York:20251129T130000
DTSTAMP:20260422T092911
CREATED:20250103T185425Z
LAST-MODIFIED:20251120T144223Z
UID:10005681-1764410400-1764421200@christchurchplymouth.org
SUMMARY:Thrift Shoppe Open
DESCRIPTION:
URL:https://christchurchplymouth.org/event/thrift-shoppe-2-2/2025-11-29/
LOCATION:Christ Church Thrift Shoppe\, 6 Lothrop St\, Plymouth\, MA\, 02630\, United States
CATEGORIES:Ministries
END:VEVENT
BEGIN:VEVENT
DTSTART;TZID=America/New_York:20251129T170000
DTEND;TZID=America/New_York:20251129T180000
DTSTAMP:20260422T092911
CREATED:20230621T173121Z
LAST-MODIFIED:20260312T151637Z
UID:10004633-1764435600-1764439200@christchurchplymouth.org
SUMMARY:Evening Worship Service 5 PM
DESCRIPTION:
URL:https://christchurchplymouth.org/event/evening-worship-service-5pm/2025-11-29/
LOCATION:Main Sanctuary
CATEGORIES:Services
END:VEVENT
BEGIN:VEVENT
DTSTART;TZID=America/New_York:20251130T080000
DTEND;TZID=America/New_York:20251130T093000
DTSTAMP:20260422T092911
CREATED:20250819T172033Z
LAST-MODIFIED:20250819T172033Z
UID:10005961-1764489600-1764495000@christchurchplymouth.org
SUMMARY:Morning Worship Service 8 AM
DESCRIPTION:
URL:https://christchurchplymouth.org/event/morning-worship-service-8-am-3/2025-11-30/
LOCATION:Mary Chapel
CATEGORIES:Services
END:VEVENT
BEGIN:VEVENT
DTSTART;TZID=America/New_York:20251130T100000
DTEND;TZID=America/New_York:20251130T113000
DTSTAMP:20260422T092911
CREATED:20250819T171914Z
LAST-MODIFIED:20260107T144208Z
UID:10005922-1764496800-1764502200@christchurchplymouth.org
SUMMARY:Morning Worship Service 10 AM
DESCRIPTION:
URL:https://christchurchplymouth.org/event/morning-worship-service-10-am-3/2025-11-30/
LOCATION:Main Sanctuary
CATEGORIES:Services
END:VEVENT
BEGIN:VEVENT
DTSTART;TZID=America/New_York:20251130T183000
DTEND;TZID=America/New_York:20251130T193000
DTSTAMP:20260422T092911
CREATED:20250103T190035Z
LAST-MODIFIED:20250103T190035Z
UID:10005735-1764527400-1764531000@christchurchplymouth.org
SUMMARY:AA Group
DESCRIPTION:
URL:https://christchurchplymouth.org/event/aa-group-2/2025-11-30/
LOCATION:Parish Hall\, 149 Court St\, Plymouth\, MA\, 02630\, United States
CATEGORIES:Meetings
END:VEVENT
BEGIN:VEVENT
DTSTART;TZID=America/New_York:20251201T103000
DTEND;TZID=America/New_York:20251201T113000
DTSTAMP:20260422T092911
CREATED:20220308T015500Z
LAST-MODIFIED:20250103T184301Z
UID:10004984-1764585000-1764588600@christchurchplymouth.org
SUMMARY:Fore & Aft
DESCRIPTION:
URL:https://christchurchplymouth.org/event/fore-aft/2025-12-01/
CATEGORIES:Fore & Aft
END:VEVENT
BEGIN:VEVENT
DTSTART;TZID=America/New_York:20251202T100000
DTEND;TZID=America/New_York:20251202T113000
DTSTAMP:20260422T092911
CREATED:20230322T153623Z
LAST-MODIFIED:20250103T184220Z
UID:10004658-1764669600-1764675000@christchurchplymouth.org
SUMMARY:Companions Group
DESCRIPTION:
URL:https://christchurchplymouth.org/event/companions-group-3/2025-12-02/
LOCATION:Hospitality Suite\, 149 Court St\, Plymouth\, MA\, 02630\, United States
CATEGORIES:Meetings,Ministries
END:VEVENT
BEGIN:VEVENT
DTSTART;TZID=America/New_York:20251202T103000
DTEND;TZID=America/New_York:20251202T113000
DTSTAMP:20260422T092911
CREATED:20220308T015500Z
LAST-MODIFIED:20250103T184301Z
UID:10004985-1764671400-1764675000@christchurchplymouth.org
SUMMARY:Fore & Aft
DESCRIPTION:
URL:https://christchurchplymouth.org/event/fore-aft/2025-12-02/
CATEGORIES:Fore & Aft
END:VEVENT
BEGIN:VEVENT
DTSTART;TZID=America/New_York:20251203T103000
DTEND;TZID=America/New_York:20251203T113000
DTSTAMP:20260422T092911
CREATED:20220308T015500Z
LAST-MODIFIED:20250103T184301Z
UID:10004986-1764757800-1764761400@christchurchplymouth.org
SUMMARY:Fore & Aft
DESCRIPTION:
URL:https://christchurchplymouth.org/event/fore-aft/2025-12-03/
CATEGORIES:Fore & Aft
END:VEVENT
BEGIN:VEVENT
DTSTART;TZID=America/New_York:20251204T100000
DTEND;TZID=America/New_York:20251204T160000
DTSTAMP:20260422T092911
CREATED:20250103T185320Z
LAST-MODIFIED:20251120T145011Z
UID:10005629-1764842400-1764864000@christchurchplymouth.org
SUMMARY:Thrift Shoppe Open
DESCRIPTION:
URL:https://christchurchplymouth.org/event/thrift-shoppe-open-2/2025-12-04/
LOCATION:Christ Church Thrift Shoppe\, 6 Lothrop St\, Plymouth\, MA\, 02630\, United States
CATEGORIES:Ministries
END:VEVENT
BEGIN:VEVENT
DTSTART;TZID=America/New_York:20251204T103000
DTEND;TZID=America/New_York:20251204T113000
DTSTAMP:20260422T092911
CREATED:20220308T015500Z
LAST-MODIFIED:20250103T184301Z
UID:10004987-1764844200-1764847800@christchurchplymouth.org
SUMMARY:Fore & Aft
DESCRIPTION:
URL:https://christchurchplymouth.org/event/fore-aft/2025-12-04/
CATEGORIES:Fore & Aft
END:VEVENT
BEGIN:VEVENT
DTSTART;TZID=America/New_York:20251204T120000
DTEND;TZID=America/New_York:20251204T130000
DTSTAMP:20260422T092911
CREATED:20230602T205606Z
LAST-MODIFIED:20251120T144834Z
UID:10005141-1764849600-1764853200@christchurchplymouth.org
SUMMARY:Food Pantry Open
DESCRIPTION:
URL:https://christchurchplymouth.org/event/food-pantry-3/2025-12-04/
CATEGORIES:Ministries
END:VEVENT
BEGIN:VEVENT
DTSTART;TZID=America/New_York:20251205T100000
DTEND;TZID=America/New_York:20251205T160000
DTSTAMP:20260422T092911
CREATED:20250103T185320Z
LAST-MODIFIED:20251120T145011Z
UID:10005630-1764928800-1764950400@christchurchplymouth.org
SUMMARY:Thrift Shoppe Open
DESCRIPTION:
URL:https://christchurchplymouth.org/event/thrift-shoppe-open-2/2025-12-05/
LOCATION:Christ Church Thrift Shoppe\, 6 Lothrop St\, Plymouth\, MA\, 02630\, United States
CATEGORIES:Ministries
END:VEVENT
BEGIN:VEVENT
DTSTART;TZID=America/New_York:20251205T103000
DTEND;TZID=America/New_York:20251205T113000
DTSTAMP:20260422T092911
CREATED:20220308T015500Z
LAST-MODIFIED:20250103T184301Z
UID:10004988-1764930600-1764934200@christchurchplymouth.org
SUMMARY:Fore & Aft
DESCRIPTION:
URL:https://christchurchplymouth.org/event/fore-aft/2025-12-05/
CATEGORIES:Fore & Aft
END:VEVENT
BEGIN:VEVENT
DTSTART;TZID=America/New_York:20251205T110000
DTEND;TZID=America/New_York:20251205T120000
DTSTAMP:20260422T092911
CREATED:20251120T183648Z
LAST-MODIFIED:20251120T183648Z
UID:10005991-1764932400-1764936000@christchurchplymouth.org
SUMMARY:Funeral for Thomas Salmon
DESCRIPTION:
URL:https://christchurchplymouth.org/event/funeral-for-thomas-salmon/
LOCATION:Main Sanctuary
CATEGORIES:Services
END:VEVENT
BEGIN:VEVENT
DTSTART;TZID=America/New_York:20251206T100000
DTEND;TZID=America/New_York:20251206T113000
DTSTAMP:20260422T092911
CREATED:20230602T205606Z
LAST-MODIFIED:20250103T184359Z
UID:10005072-1765015200-1765020600@christchurchplymouth.org
SUMMARY:Food Pantry Open
DESCRIPTION:
URL:https://christchurchplymouth.org/event/food-pantry-2/2025-12-06/
CATEGORIES:Ministries
END:VEVENT
END:VCALENDAR